BEGIN:VCALENDAR
VERSION:2.0
PRODID:-//Cooking Ideas - ECPv5.0.2//NONSGML v1.0//EN
CALSCALE:GREGORIAN
METHOD:PUBLISH
X-WR-CALNAME:Cooking Ideas
X-ORIGINAL-URL:https://cookingideas.tv
X-WR-CALDESC:Events for Cooking Ideas
BEGIN:VTIMEZONE
TZID:UTC
BEGIN:STANDARD
TZOFFSETFROM:+0000
TZOFFSETTO:+0000
TZNAME:UTC
DTSTART:20200101T000000
END:STANDARD
END:VTIMEZONE
BEGIN:VEVENT
DTSTART;TZID=UTC:20200506T080000
DTEND;TZID=UTC:20200506T170000
DTSTAMP:20260420T070749
CREATED:20200506T011455Z
LAST-MODIFIED:20200506T011455Z
UID:15607-1588752000-1588784400@cookingideas.tv
SUMMARY:Test event
DESCRIPTION:Test event \nClick to rate this post! 
URL:https://cookingideas.tv/event/test-event/
END:VEVENT
END:VCALENDAR