BEGIN:VCALENDAR
VERSION:2.0
PRODID:-//Cooking Ideas - ECPv5.0.2//NONSGML v1.0//EN
CALSCALE:GREGORIAN
METHOD:PUBLISH
X-WR-CALNAME:Cooking Ideas
X-ORIGINAL-URL:https://cookingideas.tv
X-WR-CALDESC:Events for Cooking Ideas
BEGIN:VTIMEZONE
TZID:UTC
BEGIN:STANDARD
TZOFFSETFROM:+0000
TZOFFSETTO:+0000
TZNAME:UTC
DTSTART:20200101T000000
END:STANDARD
END:VTIMEZONE
BEGIN:VEVENT
DTSTART;TZID=UTC:20200501T190000
DTEND;TZID=UTC:20200501T200000
DTSTAMP:20260420T072720
CREATED:20200419T162125Z
LAST-MODIFIED:20200424T053021Z
UID:15243-1588359600-1588363200@cookingideas.tv
SUMMARY:Join us LIVE!  Cooking Stuffed Mushrooms
DESCRIPTION:Do you want to learn how to make a delicious appetizer?  Join us live as we share the tricks and recipe on how to make Stuffed Mushrooms. \n\, \nClick to rate this post! 
URL:https://cookingideas.tv/event/join-us-live-cooking-stuffed-mushrooms/
LOCATION:San Jose\, CA
ORGANIZER;CN="Chef%20Dina%20Dina":MAILTO:dinajones@comcast.net
END:VEVENT
END:VCALENDAR